BEGIN:VCALENDAR
VERSION:2.0
PRODID:-//La Font Blanche - ECPv6.10.1.1//NONSGML v1.0//EN
CALSCALE:GREGORIAN
METHOD:PUBLISH
X-ORIGINAL-URL:https://lafontblanche.com
X-WR-CALDESC:Évènements pour La Font Blanche
REFRESH-INTERVAL;VALUE=DURATION:PT1H
X-Robots-Tag:noindex
X-PUBLISHED-TTL:PT1H
BEGIN:VTIMEZONE
TZID:Europe/Paris
BEGIN:DAYLIGHT
TZOFFSETFROM:+0100
TZOFFSETTO:+0200
TZNAME:CEST
DTSTART:20260329T010000
END:DAYLIGHT
BEGIN:STANDARD
TZOFFSETFROM:+0200
TZOFFSETTO:+0100
TZNAME:CET
DTSTART:20261025T010000
END:STANDARD
END:VTIMEZONE
BEGIN:VEVENT
DTSTART;VALUE=DATE:20260704
DTEND;VALUE=DATE:20260710
DTSTAMP:20260419T192015
CREATED:20260113T153449Z
LAST-MODIFIED:20260113T153449Z
UID:1275-1783123200-1783641599@lafontblanche.com
SUMMARY:Retraite annuelle de Tara Verte
DESCRIPTION:Dans les Pyrénées\, à La Font Blanche\, Belvis\nDu 04 au 09 juillet 2026\nGuidée par Lama Deundam \nBien maîtriser la pratique est indispensable pour participer à cette retraite. \nModalités et tarifs :\nFrais de session : 14€ la journée \nHébergement :\nEn chambre de 2 : 18€\, en chambre single : 30€\, en camping : 10€ la nuit. \nRepas :\npetit déj. 3.50€ – déjeuner 9.50€ – dîner 8.50€ (ou vous cuisinez vous-mêmes) \nRenseignements et inscriptions :\nfontblanche@gmail.com  ou  06 72 73 44 90 (Christel)
URL:https://lafontblanche.com/event/retraite-annuelle-de-tara-verte/
LOCATION:La Font Blanche\, 1262 Chemin de Font Blanche\, Belvis\, 11340\, France
ATTACH;FMTTYPE=image/jpeg:https://lafontblanche.com/wp-content/uploads/2026/01/2257fee82383f011e8f7feedb156a161.jpg
END:VEVENT
BEGIN:VEVENT
DTSTART;VALUE=DATE:20260726
DTEND;VALUE=DATE:20260802
DTSTAMP:20260419T192015
CREATED:20260113T153710Z
LAST-MODIFIED:20260113T153710Z
UID:1278-1785024000-1785628799@lafontblanche.com
SUMMARY:Retraite du Bouddhisme Zen 26/7
DESCRIPTION:Lors des enseignements\, la pratique de la pleine conscience (considérée comme pratique de base) est approfondie et clarifiée à travers des exercices variés comprenant : \n\nLa méditation assise (zazen)\nLa méditation marchée (kinhin)\nLa méditation du travail (samu)\nLes entretiens individuels (dokusan) et en groupe (mondo)\nLa présentation du Dharma (teisho)\nLe chant des sutras\nLes séances d’éveil corporel\nL’étude des préceptes bouddhistes\n\nL’accent est mis sur un engagement créatif dans chaque instant de la vie. \nRetraite guidée par Bruce Harris \nContakt: Patrick Giusti (par mail)  giusti.patrick@icloud.com
URL:https://lafontblanche.com/event/retraite-du-bouddhisme-zen-26-7/
LOCATION:La Font Blanche\, 1262 Chemin de Font Blanche\, Belvis\, 11340\, France
ATTACH;FMTTYPE=image/png:https://lafontblanche.com/wp-content/uploads/2026/01/Carte-de-visite-FB-Fleur-2.png
END:VEVENT
END:VCALENDAR