BEGIN:VCALENDAR
VERSION:2.0
PRODID:-//La Font Blanche - ECPv6.10.1.1//NONSGML v1.0//EN
CALSCALE:GREGORIAN
METHOD:PUBLISH
X-WR-CALNAME:La Font Blanche
X-ORIGINAL-URL:https://lafontblanche.com
X-WR-CALDESC:Évènements pour La Font Blanche
REFRESH-INTERVAL;VALUE=DURATION:PT1H
X-Robots-Tag:noindex
X-PUBLISHED-TTL:PT1H
BEGIN:VTIMEZONE
TZID:Europe/Paris
BEGIN:DAYLIGHT
TZOFFSETFROM:+0100
TZOFFSETTO:+0200
TZNAME:CEST
DTSTART:20250330T010000
END:DAYLIGHT
BEGIN:STANDARD
TZOFFSETFROM:+0200
TZOFFSETTO:+0100
TZNAME:CET
DTSTART:20251026T010000
END:STANDARD
END:VTIMEZONE
BEGIN:VEVENT
DTSTART;TZID=Europe/Paris:20250426T090000
DTEND;TZID=Europe/Paris:20250501T130000
DTSTAMP:20260420T084901
CREATED:20250301T150312Z
LAST-MODIFIED:20250521T104008Z
UID:1157-1745658000-1746104400@lafontblanche.com
SUMMARY:Retraite du Gourou Yoga du 16ième Karmapa et méditation Shiné
DESCRIPTION:Le gourou yoga est une pratique méditative durant laquelle nous unissons notre esprit à l’esprit éveillé en prenant comme support un maitre accompli du passé ; il s’agit ici du 16ième Karmapa\, Rangjung Rigpé Dorjé (1924 - 1981). Source d’une profonde influence spirituelle\, une telle pratique soutient la méditation silencieuse de pacification de l’esprit\, shiné. L es prières de souhaits du mahamudra vont compléter les sessions de pratique.
URL:https://lafontblanche.com/event/retraite-du-gourou-yoga-du-16ieme-karmapa-et-meditation-shine/
LOCATION:La Font Blanche\, 1262 Chemin de Font Blanche\, Belvis\, 11340\, France
ATTACH;FMTTYPE=image/jpeg:https://lafontblanche.com/wp-content/uploads/2025/03/iphone-christel-135.jpg
END:VEVENT
END:VCALENDAR