BEGIN:VCALENDAR
VERSION:2.0
PRODID:-//La Font Blanche - ECPv6.10.1.1//NONSGML v1.0//EN
CALSCALE:GREGORIAN
METHOD:PUBLISH
X-ORIGINAL-URL:https://lafontblanche.com
X-WR-CALDESC:Évènements pour La Font Blanche
REFRESH-INTERVAL;VALUE=DURATION:PT1H
X-Robots-Tag:noindex
X-PUBLISHED-TTL:PT1H
BEGIN:VTIMEZONE
TZID:Europe/Paris
BEGIN:DAYLIGHT
TZOFFSETFROM:+0100
TZOFFSETTO:+0200
TZNAME:CEST
DTSTART:20240331T010000
END:DAYLIGHT
BEGIN:STANDARD
TZOFFSETFROM:+0200
TZOFFSETTO:+0100
TZNAME:CET
DTSTART:20241027T010000
END:STANDARD
BEGIN:DAYLIGHT
TZOFFSETFROM:+0100
TZOFFSETTO:+0200
TZNAME:CEST
DTSTART:20250330T010000
END:DAYLIGHT
BEGIN:STANDARD
TZOFFSETFROM:+0200
TZOFFSETTO:+0100
TZNAME:CET
DTSTART:20251026T010000
END:STANDARD
BEGIN:DAYLIGHT
TZOFFSETFROM:+0100
TZOFFSETTO:+0200
TZNAME:CEST
DTSTART:20260329T010000
END:DAYLIGHT
BEGIN:STANDARD
TZOFFSETFROM:+0200
TZOFFSETTO:+0100
TZNAME:CET
DTSTART:20261025T010000
END:STANDARD
END:VTIMEZONE
BEGIN:VEVENT
DTSTART;VALUE=DATE:20260411
DTEND;VALUE=DATE:20260417
DTSTAMP:20260419T160604
CREATED:20260113T153153Z
LAST-MODIFIED:20260113T153153Z
UID:1272-1775865600-1776383999@lafontblanche.com
SUMMARY:Retraite du Gourou Yoga du 16ème Karmapa
DESCRIPTION:Le gourou yoga est une pratique méditative durant laquelle nous unissons notre esprit à l’esprit éveillé en prenant comme support un maitre accompli du passé ; il s’agit ici du 16ième Karmapa\, Rangjung Rigpé Dorjé (1924 - 1981). Source d’une profonde influence spirituelle\, une telle pratique soutient la méditation silencieuse de pacification de l’esprit\, shiné. Les prières de souhaits du mahamudra vont compléter les sessions de pratique. \nRetraite guidée par lama Deundam \nModalités et tarifs :\nFrais de session : 14€ /jour\n(location de la salle\, chauffage et les frais d’hébergement\, de repas et de déplacement du lama) \nHébergement :\nEn chambre de 2 : 18€\, en chambre single : 30€\, en camping : 10€ la nuit. \nRepas :\npetit déj. 3\,50€ – déjeuner 9\,50€ – dîner 8\,50€ (ou vous cuisinez vous-mêmes) \nRenseignements et inscriptions:\nfontblanche@gmail.com   ou   06 72 73 44 90
URL:https://lafontblanche.com/event/retraite-du-gourou-yoga-du-16eme-karmapa/
ATTACH;FMTTYPE=image/jpeg:https://lafontblanche.com/wp-content/uploads/2026/01/16ieme-Karmapa.jpg
END:VEVENT
BEGIN:VEVENT
DTSTART;VALUE=DATE:20260329
DTEND;VALUE=DATE:20260405
DTSTAMP:20260419T160604
CREATED:20260113T152746Z
LAST-MODIFIED:20260113T152827Z
UID:1269-1774742400-1775347199@lafontblanche.com
SUMMARY:Retraite du Bouddhisme Zen
DESCRIPTION:Lors des enseignements\, la pratique de la pleine conscience (considérée comme pratique de base) est approfondie et clarifiée à travers des exercices variés comprenant : \n\nLa méditation assise (zazen)\nLa méditation marchée (kinhin)\nLa méditation du travail (samu)\nLes entretiens individuels (dokusan) et en groupe (mondo)\nLa présentation du Dharma (teisho)\nLe chant des sutras\nLes séances d’éveil corporel\nL’étude des préceptes bouddhistes\n\nL’accent est mis sur un engagement créatif dans chaque instant de la vie. \nRetraite guidée par Bruce Harris \nContakt: Patrick Giusti (par mail)  giusti.patrick@icloud.com
URL:https://lafontblanche.com/event/retraite-du-bouddhisme-zen/
LOCATION:La Font Blanche\, 1262 Chemin de Font Blanche\, Belvis\, 11340\, France
ATTACH;FMTTYPE=image/png:https://lafontblanche.com/wp-content/uploads/2026/01/Carte-de-visite-FB-Fleur-2.png
END:VEVENT
BEGIN:VEVENT
DTSTART;VALUE=DATE:20260224
DTEND;VALUE=DATE:20260302
DTSTAMP:20260419T160604
CREATED:20260113T151943Z
LAST-MODIFIED:20260113T152029Z
UID:1265-1771891200-1772409599@lafontblanche.com
SUMMARY:Retraite de Tchenrezi et Amitabha
DESCRIPTION:Dans les Pyrénées\, à La Font Blanche\, Belvis\nGuidée par Lama Deundam \nLes textes à amener pour cette retraite: \nla pratique de Tchenrezi\, la courte pratique d’Amitabha\, les souhaits longs de Dewatchen\,\nla pratique de Milarepa et la Dharani de Vajravidarana\n(si vous n’avez pas ces textes\, il est possible de les acheter sur place ; merci de me contacter.) \nPensez également à amener des offrandes pour les tsoks. \nModalités et tarifs :\nFrais de sessions : 14€ / journée \nHébergement :\nEn chambre à 2 : 18€/nuit\, en chambre single : 30€/nuit \nRepas :\nPetit déj 3.50€\, déjeuner 9.50€\, dîner 8.50€ (ou vous cuisinez vous-même) \nRenseignements et inscriptions (avant le 26 janvier 2026):\nfontblanche@gmail.com ou 06 72 73 44 90 (Christel) 
URL:https://lafontblanche.com/event/retraite-de-tchenrezi-et-amitabha/
LOCATION:La Font Blanche\, 1262 Chemin de Font Blanche\, Belvis\, 11340\, France
ATTACH;FMTTYPE=image/jpeg:https://lafontblanche.com/wp-content/uploads/2026/01/Amitabha.jpg
END:VEVENT
BEGIN:VEVENT
DTSTART;TZID=Europe/Paris:20250426T090000
DTEND;TZID=Europe/Paris:20250501T130000
DTSTAMP:20260419T160604
CREATED:20250301T150312Z
LAST-MODIFIED:20250521T104008Z
UID:1157-1745658000-1746104400@lafontblanche.com
SUMMARY:Retraite du Gourou Yoga du 16ième Karmapa et méditation Shiné
DESCRIPTION:Le gourou yoga est une pratique méditative durant laquelle nous unissons notre esprit à l’esprit éveillé en prenant comme support un maitre accompli du passé ; il s’agit ici du 16ième Karmapa\, Rangjung Rigpé Dorjé (1924 - 1981). Source d’une profonde influence spirituelle\, une telle pratique soutient la méditation silencieuse de pacification de l’esprit\, shiné. L es prières de souhaits du mahamudra vont compléter les sessions de pratique.
URL:https://lafontblanche.com/event/retraite-du-gourou-yoga-du-16ieme-karmapa-et-meditation-shine/
LOCATION:La Font Blanche\, 1262 Chemin de Font Blanche\, Belvis\, 11340\, France
ATTACH;FMTTYPE=image/jpeg:https://lafontblanche.com/wp-content/uploads/2025/03/iphone-christel-135.jpg
END:VEVENT
BEGIN:VEVENT
DTSTART;VALUE=DATE:20241028
DTEND;VALUE=DATE:20241103
DTSTAMP:20260419T160604
CREATED:20250301T113751Z
LAST-MODIFIED:20250301T113751Z
UID:1151-1730073600-1730591999@lafontblanche.com
SUMMARY:Sesshin Zen
DESCRIPTION:Retraite de 5 jours autour du bouddhisme zen animée par Bruce Harris
URL:https://lafontblanche.com/event/sesshin-zen-2/
LOCATION:La Font Blanche\, 1262 Chemin de Font Blanche\, Belvis\, 11340\, France
ATTACH;FMTTYPE=image/jpeg:https://lafontblanche.com/wp-content/uploads/2023/06/iphone-christel-852.jpg
ORGANIZER;CN="Bruce Harris":MAILTO:harris.soun@gmail.com
END:VEVENT
BEGIN:VEVENT
DTSTART;VALUE=DATE:20241019
DTEND;VALUE=DATE:20241025
DTSTAMP:20260419T160604
CREATED:20250301T113622Z
LAST-MODIFIED:20250301T113622Z
UID:1149-1729296000-1729814399@lafontblanche.com
SUMMARY:Retraite de Sangyé Menla
DESCRIPTION:Retraite intensive de la pratique du Bouddha Menla (bouddha du soin) guidée par Lama Deundam.
URL:https://lafontblanche.com/event/retraite-de-sangye-menla/
LOCATION:La Font Blanche\, 1262 Chemin de Font Blanche\, Belvis\, 11340\, France
ATTACH;FMTTYPE=image/jpeg:https://lafontblanche.com/wp-content/uploads/2023/06/iphone-christel-451.jpg
END:VEVENT
BEGIN:VEVENT
DTSTART;VALUE=DATE:20240713
DTEND;VALUE=DATE:20240715
DTSTAMP:20260419T160604
CREATED:20250301T104024Z
LAST-MODIFIED:20250301T104034Z
UID:1117-1720828800-1721001599@lafontblanche.com
SUMMARY:Stage de Qi Gong et Méditation
DESCRIPTION:Weekend de Qi Gong traditionnel du Wudang animé par Véronique Berthier\, association Fleur’essence\n \nDe l’intention au non-agir dans la pratique du Qi Gong
URL:https://lafontblanche.com/event/stage-de-qi-gong-et-meditation/
LOCATION:La Font Blanche\, 1262 Chemin de Font Blanche\, Belvis\, 11340\, France
ATTACH;FMTTYPE=image/jpeg:https://lafontblanche.com/wp-content/uploads/2024/05/Qi-Gong-Fleuressence-Veronique-Berthier-scaled.jpg
ORGANIZER;CN="FLEUR'ESSENCE":MAILTO:fleuressenceasso@gmail.com
END:VEVENT
BEGIN:VEVENT
DTSTART;TZID=Europe/Paris:20240706T080000
DTEND;TZID=Europe/Paris:20240711T170000
DTSTAMP:20260419T160604
CREATED:20250301T103133Z
LAST-MODIFIED:20250301T103450Z
UID:1107-1720252800-1720717200@lafontblanche.com
SUMMARY:Retraite de Tara Verte
DESCRIPTION:5 jours de pratique intensive de Tara Verte avec accumulation des louanges guidées par Lama Deundam. \nIl est indispensable de bien maitriser la pratique pour participer à cette retraite
URL:https://lafontblanche.com/event/retraite-de-tara-verte/
LOCATION:La Font Blanche\, 1262 Chemin de Font Blanche\, Belvis\, 11340\, France
ATTACH;FMTTYPE=image/jpeg:https://lafontblanche.com/wp-content/uploads/2023/06/iphone-christel-244.jpg
END:VEVENT
BEGIN:VEVENT
DTSTART;VALUE=DATE:20240609
DTEND;VALUE=DATE:20240614
DTSTAMP:20260419T160604
CREATED:20250301T113413Z
LAST-MODIFIED:20250301T113413Z
UID:1146-1717891200-1718323199@lafontblanche.com
SUMMARY:Sesshin Zen
DESCRIPTION:Retraite de 4 jours autour de la pratique du bouddhisme zen animée par Bruce Harris.
URL:https://lafontblanche.com/event/sesshin-zen/
LOCATION:La Font Blanche\, 1262 Chemin de Font Blanche\, Belvis\, 11340\, France
ATTACH;FMTTYPE=image/jpeg:https://lafontblanche.com/wp-content/uploads/2023/06/iphone-christel-147.jpg
ORGANIZER;CN="Bruce Harris":MAILTO:harris.soun@gmail.com
END:VEVENT
END:VCALENDAR