BEGIN:VCALENDAR
VERSION:2.0
PRODID:-//La Font Blanche - ECPv6.10.1.1//NONSGML v1.0//EN
CALSCALE:GREGORIAN
METHOD:PUBLISH
X-WR-CALNAME:La Font Blanche
X-ORIGINAL-URL:https://lafontblanche.com
X-WR-CALDESC:Évènements pour La Font Blanche
REFRESH-INTERVAL;VALUE=DURATION:PT1H
X-Robots-Tag:noindex
X-PUBLISHED-TTL:PT1H
BEGIN:VTIMEZONE
TZID:Europe/Paris
BEGIN:DAYLIGHT
TZOFFSETFROM:+0100
TZOFFSETTO:+0200
TZNAME:CEST
DTSTART:20260329T010000
END:DAYLIGHT
BEGIN:STANDARD
TZOFFSETFROM:+0200
TZOFFSETTO:+0100
TZNAME:CET
DTSTART:20261025T010000
END:STANDARD
END:VTIMEZONE
BEGIN:VEVENT
DTSTART;VALUE=DATE:20261024
DTEND;VALUE=DATE:20261030
DTSTAMP:20260420T011914
CREATED:20260113T153954Z
LAST-MODIFIED:20260113T153954Z
UID:1280-1792800000-1793318399@lafontblanche.com
SUMMARY:Retraite annuelle de Sangyé Menla
DESCRIPTION:Dans les Pyrénées\, à La Font Blanche\, Belvis\nDu 24 au 29 octobre 2026\nGuidée par Lama Deundam\nAvoir reçu l’initiation est conseillé mais pas indispensable pour participer à cette retraite.  \nModalités et tarifs :\nFrais de session : 14€ la journée \nHébergement :\nEn chambre de 2 : 18€\, en chambre single : 30€\, en camping : 10€ la nuit. \nRepas :\npetit déj. 3.50€ – déjeuner 9.50€ – dîner 8.50€ \nRenseignements et inscriptions :\nfontblanche@gmail.com  ou  Christel : 06 72 73 44 90
URL:https://lafontblanche.com/event/retraite-annuelle-de-sangye-menla/
LOCATION:La Font Blanche\, 1262 Chemin de Font Blanche\, Belvis\, 11340\, France
ATTACH;FMTTYPE=image/jpeg:https://lafontblanche.com/wp-content/uploads/2026/01/sangye-menla-2.jpg
END:VEVENT
END:VCALENDAR