BEGIN:VCALENDAR
VERSION:2.0
PRODID:-//La Font Blanche - ECPv6.10.1.1//NONSGML v1.0//EN
CALSCALE:GREGORIAN
METHOD:PUBLISH
X-WR-CALNAME:La Font Blanche
X-ORIGINAL-URL:https://lafontblanche.com
X-WR-CALDESC:Évènements pour La Font Blanche
REFRESH-INTERVAL;VALUE=DURATION:PT1H
X-Robots-Tag:noindex
X-PUBLISHED-TTL:PT1H
BEGIN:VTIMEZONE
TZID:Europe/Paris
BEGIN:DAYLIGHT
TZOFFSETFROM:+0100
TZOFFSETTO:+0200
TZNAME:CEST
DTSTART:20260329T010000
END:DAYLIGHT
BEGIN:STANDARD
TZOFFSETFROM:+0200
TZOFFSETTO:+0100
TZNAME:CET
DTSTART:20261025T010000
END:STANDARD
END:VTIMEZONE
BEGIN:VEVENT
DTSTART;VALUE=DATE:20260224
DTEND;VALUE=DATE:20260302
DTSTAMP:20260419T191628
CREATED:20260113T151943Z
LAST-MODIFIED:20260113T152029Z
UID:1265-1771891200-1772409599@lafontblanche.com
SUMMARY:Retraite de Tchenrezi et Amitabha
DESCRIPTION:Dans les Pyrénées\, à La Font Blanche\, Belvis\nGuidée par Lama Deundam \nLes textes à amener pour cette retraite: \nla pratique de Tchenrezi\, la courte pratique d’Amitabha\, les souhaits longs de Dewatchen\,\nla pratique de Milarepa et la Dharani de Vajravidarana\n(si vous n’avez pas ces textes\, il est possible de les acheter sur place ; merci de me contacter.) \nPensez également à amener des offrandes pour les tsoks. \nModalités et tarifs :\nFrais de sessions : 14€ / journée \nHébergement :\nEn chambre à 2 : 18€/nuit\, en chambre single : 30€/nuit \nRepas :\nPetit déj 3.50€\, déjeuner 9.50€\, dîner 8.50€ (ou vous cuisinez vous-même) \nRenseignements et inscriptions (avant le 26 janvier 2026):\nfontblanche@gmail.com ou 06 72 73 44 90 (Christel) 
URL:https://lafontblanche.com/event/retraite-de-tchenrezi-et-amitabha/
LOCATION:La Font Blanche\, 1262 Chemin de Font Blanche\, Belvis\, 11340\, France
ATTACH;FMTTYPE=image/jpeg:https://lafontblanche.com/wp-content/uploads/2026/01/Amitabha.jpg
END:VEVENT
END:VCALENDAR